BEGIN:VCALENDAR
VERSION:2.0
PRODID:-//DesignRev - ECPv5.1.4//NONSGML v1.0//EN
CALSCALE:GREGORIAN
METHOD:PUBLISH
X-WR-CALNAME:DesignRev
X-ORIGINAL-URL:https://designrev.in
X-WR-CALDESC:Events for DesignRev
BEGIN:VTIMEZONE
TZID:Asia/Kolkata
BEGIN:STANDARD
TZOFFSETFROM:+0530
TZOFFSETTO:+0530
TZNAME:IST
DTSTART:20240101T000000
END:STANDARD
END:VTIMEZONE
BEGIN:VEVENT
DTSTART;TZID=Asia/Kolkata:20240803T090000
DTEND;TZID=Asia/Kolkata:20240803T130000
DTSTAMP:20260419T132100
CREATED:20240718T054858Z
LAST-MODIFIED:20240718T054858Z
UID:1602-1722675600-1722690000@designrev.in
SUMMARY:Awaken Your Creativity: Akashvani
DESCRIPTION:Yes! Register Me\nAwaken Your Creativity: Akashvani\nListen to your inner voice. You need to dissolve your stress. Drop your unconscious patterns. And transform your anxiety. You need to switch off the chattering monkey of your mind. You need to get back to joy and celebration. That is what we practice every month in this Dance Meditation. And we follow this up with a celebration of light lunch\, laughter\, happiness\, and friendliness. \nYou are welcome to join us \n\nRs 2\,400 Regular | Rs 2\,000 Early Bird. Includes Tea and Lite Lunch\nFirst-Timer: Free Trial for first 45 minutes*. Because everybody deserves to unplug and seek some joy and bliss with us\, even if for a few precious moments. So come!\n\nYes! Register Me\n  \nThis Dance Meditation practice helps you unlock explosive creativity within you. You learn the knack of coming back to happiness\, celebration\, and bliss. Whether you are a beginner in dance or in meditation\, or have been practicing either for some time\, or have have two left feet and can not sit still for a minute\, this unique Dance Meditation is for you. It makes your life and work: \n\nMore delightful\nMore beautiful\nMore intelligent\nMore joyous\n\nAnd yes\, definitely a little more crazy and fun. \n  \nYes! Register Me\n  \nCombined with meditative techniques\, dance becomes a great transformational force. One that dissolves creative blocks\, fires up your imagination\, puts you back in touch with your feelings\, and gets that creative flow gushing through you again. \nYour loved ones will notice a growing sense of creative playfulness\, celebration\, and ease around you: in your professional work\, your personal life\, and in your self-awareness. \nBut all that is secondary. If you go deep\, dance is the most direct path with which you may experience that priceless taste of bliss and freedom. \nAwaken Dance Meditation\nThis is the 20th Meditation event since 2016 in the ‘Awaken’ Series conducted by Niyam. Not counting the free\, online meditations conducted for participants from all over the world\, during the pandemic from Mar 2020 till Jul 2021. Some of those were daily\, others over every weekend. \nHere’s a collage of the some of the ‘Awaken’ Meditation events since 2016: \n  \nJoin the eternal dance meditation\nYes! Register Me\nPeak At The Agenda\n‘Awaken Your Creativity: Akashvani’ Dance Meditation by Niyam Bhushan. Peak at the agenda\n\n9:15 AM\nRegistration and settle in. Most participants prefer to arrive between 9:00 and 9:15 so they can orient themselves\, settle in\, and tune themselves in\n09:30 AM\nDance Energy Meditations: Tuning In\nHeart Meditation: The Call\nSufi Dance Meditations: Revelation\n\n01:00 PM\nTea\, Lite Lunch\, Love & Laughter\n\nEach meditation is followed by moments of rest and stillness. You may not only catch your breath\, but also find yourself moving deeper into gaps of stillness and peace in the ceaseless movement all around you. \nDon’t wish to miss out? \n  \nYes! Register Me\nGet Into The Rhythm\nHere’s what you need to pack for your peak experience \nWhat to Pack for ‘Awaken Your Creativity: Akashvani’ Dance Meditation by Niyam Bhushan\n\n Comfortable Yoga and Dance stretch-clothing so you have full freedom in your movements. Get a light towel too.\nYoga mat and dancing shoes. You could also dance bare-foot on the wooden floor\nYour own bottle of water: non-plastic\, made of ceramic\, steel\, copper\, mitti-cool\, or whatever allows all life forms to continue their dance around the Earth\nEye-mask for sessions where we need to keep our eyes closed\nSense of humour and laughter\nAny optional gesture or thing with which you can share your love and gratitude towards other participants is welcome\n\n  \nYes! Register Me\nVenue\n\nAwaken Your Creativity Dance Meditation. Participants at IFBC Dance Studio\, Saket\, New Delhi\nIFBC Studios the Imperial Fernando Ballet Company\, is a famous and beautiful dance studio with a huge wooden dance-floor and an 18-feet high ceiling\, next to the Garden of Five Senses as well as Rose Cafe\, in Saket\, in the centre of Delhi. IFBC Studio is easily accessible by Delhi Metro as it is literally housed in an extension of the metro station building. You may also drive down or catch a taxi to Saket\, via BluSmart\, Uber\, Ola\, or others. The address is: \nIFBC Studios \nMetro Station\, 241\, Westend Marg\,\nSaidulajab\, Mittal Garden\, Saket\,\nNew Delhi\, Delhi 110030 \n  \nYes! Register Me\n  \nDirections:\n  \nBy Car: \n\nYou’ll find ‘IFBC Studios Saket’ pinned in Google Maps\nOnce you arrive at the Saket metro station corner\, turn left into Westland Marg\nKeep going straight\, crossing Rose Cafe on your right\nWhen you reach the T-point take a right and immediately look for parking\nTotal distance from Saket metro station: 850 m\n\nBy Metro: \n\nGet off at the Saket metro station\nExit from gate number 2\nYou’ll find Rose cafe on your right on your way to the studio\nWhen you reach up to the T-junction\, turn right and continue till you reach the gate of IFBC Studios. Go down the steps to the lower-ground floor to the reception.\nTotal Distance from Saket metro station: 850 m\n\nFor Any Assistance\, Call \n\nIFBC Studios: 011 466 664 52\n\nEligibility\n\nAbove the age of 18\nFrom any background\, under-graduate onward\nNo prior dance skills required. Anybody can dance!\nNo prior meditation practice or experience of any kind required\nNeed not have any demonstrative creative skills\nPhysically healthy and fit as this is filled with physical activities especially dancing\, and various other movements\nMedium of communication: English\nYou must have an open mind and a receptive heart\, and be willing to explore light\, fun-filled meditative techniques.\nChildren between 15 to 18 may be allowed on a very special case\, with a parent\, if the young adult shows their own inclination and intent and freedom to participate\nIf participating with a relative\, companion\, lover\, friend\, or colleague\, the other person must fill in their own independent participation form\, and we reserve the right to decline if required\nParticipants who register for the free 45-min Meditation Preview may continue if they wish\, by paying the regular participation fee via UPI or cash before proceeding.\nEach participant must stay through the entire duration of the event-category they enroll for: 45-minute preview\, or the full meditation. Leaving early is fobidden as it disturbs the group meditation and energy among participants.\n\n  \nYes! Register Me\n\nDo You Belong to This Tribe?\nWho Attends ‘Awaken Your Creativity’ Dance Meditation by Niyam Bhushan\nSo who attends these fun and crazy Meditation events designed to Awaken Your Creativity? In fact\, to which tribe of these do you belong: \n\nWomen: 65% • Men: 35%\n\nDesign / Product Professionals: 39%\nManagement Professionals: 23%\nStartup Founders: 22%\nLiberal Arts Hipsters: 16%\n\n\n\nTwo Participation Options\n\nFull Meditation with Tea and Lite Lunch\n\nRs 2\,400 Regular | Rs 2\,000 Early Bird. To be paid online \nNote: Limited Registrations. On a first-come first-served basis. Expect registrations to sell-out early so book now. Newbies\, as well as First-Timers who have never enrolled or participated in any kind of meditation session conducted by Niyam can register and dive straightaway into this Full Meditation \nFee includes: \n\nAccess to the venue\nYour participation in the full Dance Meditation event\nDelicious Tea and lite lunch\n\n  \nYes! Register Me\n  \n\n45 Min Free Meditation Preview\n\nRs 0. Only via prior registration online \nNote: Only for folks who have never enrolled or participated in any meditation session conducted by Niyam. Limited Registrations. On a first-come first-served basis. Expect registrations to sell-out early so book now \nIncludes: \n\nAccess to the venue\nYour participation in the ’45-min Free Meditation Preview’\nIf you wish to continue\, you may pay the regular participation fee by UPI or cash to proceed. This also offers you the delicious Tea and Lite Lunch at the end of the full meditation practise.\n\n  \nYes! Register Me\n\nTerms and Conditions\n\nEach participant must be respectful\, sincere\, and sensitive towards others\nAll rules for guests at IFBC Studios must be respected and followed\nIFBC Studios reserves the right to request a guest to leave if they are found to violate the rules of the venue\nIt is mandatory for all guests to carry a valid Photo ID and address proof\nNo firearms\, weapons\, drugs\, alcohol\, allowed\nThe fees must be paid 100% in advance\, by electronic transfer\, against the invoice raised directly by us\nFees once paid will not be refunded\, whether before\, during\, or after the event\nIf for any reason\, we cancel or reschedule this event before commencement\, fees will be refunded in full if the new schedule is not suitable to you\nParticipants who enroll for the\nWe reserve the right to refuse participation at any time before or during the event without having to offer a reason. Our decision will be final.\nOffer subject to force majeure conditions\nWe hold no liability\, indemnification\, or responsibility for any loss\, theft\, injury\, or any type of harm\nAll disputes subject to Delhi jurisdiction only\n\nFour Steps to Dance Meditation\nThis retreat is exclusive and carefully curated. With number of participants intentionally kept lower. Therefore: \nStep 1: Check to see if you pass the eligibility criterion. \nStep 2:  If so\, please fill in our your details in the form here\, which may also ask you some basic and easy-peasy questions such as your favorite dance music 🙂 \nStep 3: If you get through our selection criterion\, we will set up an informal telephone-interview and/or a video-chat with you. Usually lasts 9 to 15 minutes. \nStep 4: If selected\, your name will be added to the short-listed candidates. Bookings are usually first-come-first-served primarily\, and then processed through other filters. Once you get through the final selection you will have to make your payment via online transfer promptly to secure your participation. \nTap Your Way To Bliss\nCome on! Jump into the next Dance Meditation. Tap the button below and we will ping you once. Get ready to transform your life through creativity and celebration. \n  \nYes! Register Me\n  \n
URL:https://designrev.in/event/awaken-20/
LOCATION:IFBC Studios: Imperial Fernando Ballet Company\, Saket\, New Delhi\, IFBC Studios\, Metro Station\, 241\, Westend Marg\, Saidulajab\, Mittal Garden\, Saket\, New Delhi\, Delhi\, 110030\, India
CATEGORIES:Meditation and Design
ATTACH;FMTTYPE=image/png:https://designrev.in/wp-content/uploads/2024/07/Awaken20-Akashvani.png
END:VEVENT
END:VCALENDAR