BEGIN:VCALENDAR
VERSION:2.0
PRODID:-//DesignRev - ECPv5.1.4//NONSGML v1.0//EN
CALSCALE:GREGORIAN
METHOD:PUBLISH
X-WR-CALNAME:DesignRev
X-ORIGINAL-URL:https://designrev.in
X-WR-CALDESC:Events for DesignRev
BEGIN:VTIMEZONE
TZID:Asia/Kolkata
BEGIN:STANDARD
TZOFFSETFROM:+0530
TZOFFSETTO:+0530
TZNAME:IST
DTSTART:20190101T000000
END:STANDARD
END:VTIMEZONE
BEGIN:VEVENT
DTSTART;TZID=Asia/Kolkata:20190328T103000
DTEND;TZID=Asia/Kolkata:20190328T120000
DTSTAMP:20260421T182029
CREATED:20190318T084422Z
LAST-MODIFIED:20190402T171741Z
UID:654-1553769000-1553774400@designrev.in
SUMMARY:TIIVR Design Sprint Workshop with Karan Aggarwal
DESCRIPTION:Tiivr Design Sprint Workshop @ 91Springboard\, Sec 1\, Noida. 1030-1200 hrs. Thursday\, 28th March 2019\n  \nIn 90 minutes this workshop delivers the essence of how teams can conduct Design Sprints and go from an Idea to Shipping & Testing Prototypes with real users and achieve what they would in 6 months in just 4 days.   \nWorkshop Details:\n\n\n\nDate\nThu\, 28th March\, 2019\n\n\nTime\n10:30 AM – 12 PM  \n(90 mins)\n\n\nVenue\n91Springboard\, Sec 1\, Noida\n\n\nNearest Metro Station\nSector 15\, Noida\n\n\nMax Participants\n8\n\n\n\nKey Takeaway:\nParticipants can apply the learnings of this workshop to transform the way they solve creative problems with their teams with an arrows speed and focus \n  \nFor more details which answer your how\, why\, what\, where\, and how much for the tickets\, please click here:\nBuy Ticket\n  \nDetails and Tickets: https://www.meraevents.com/event/tiivr-design-sprint-workshop-learn-how-to-innovate-with-speed-and-build-better-products-faster?ucode=organizer \n  \n
URL:https://designrev.in/event/tiivr-design-sprint-workshop-with-karan-aggarwal/
LOCATION:91Springboard Sector 1 Noida\, 91springboard Sector 1\, Block C\, Noida\, Uttar Pradesh\, 201301\, India
CATEGORIES:Public Design Workshops
END:VEVENT
END:VCALENDAR