BEGIN:VCALENDAR
VERSION:2.0
PRODID:-//DesignRev - ECPv5.1.4//NONSGML v1.0//EN
CALSCALE:GREGORIAN
METHOD:PUBLISH
X-WR-CALNAME:DesignRev
X-ORIGINAL-URL:http://designrev.in
X-WR-CALDESC:Events for DesignRev
BEGIN:VTIMEZONE
TZID:Asia/Kolkata
BEGIN:STANDARD
TZOFFSETFROM:+0530
TZOFFSETTO:+0530
TZNAME:IST
DTSTART:20230101T000000
END:STANDARD
END:VTIMEZONE
BEGIN:VEVENT
DTSTART;TZID=Asia/Kolkata:20230826T110000
DTEND;TZID=Asia/Kolkata:20230826T120000
DTSTAMP:20260424T065059
CREATED:20230822T131301Z
LAST-MODIFIED:20230822T132247Z
UID:1518-1693047600-1693051200@designrev.in
SUMMARY:The Chat Bubble 03 - Digital Privacy: A Hole In Your Soul?
DESCRIPTION:The Chat Bubble – Digital Privacy: A Hole In Your Soul?\nYes! Register Me\n  \nDesigner\, do you dig this privacy hole further\, or do you start filling it\, now that the Digital Personal Data Protection (DPDP Bill 2023) is law in India? So far\, startups\, corporates\, enterprises gleefully design without care and often with deliberate intention to harvest as much data as they can of end-users. While Design is also tapped in to cleverly hook and addict people to go on sharing even more personal and private data. Until now. \nThe DPDP Bill 2023 brings liability to you. As a designer\, a startup co-founder\, or even an enterprise\, are you aware of how to strategize on design? The DPDP Bill legislation sets out your responsibilities in handling and processing digital data while upholding the rights of individuals in India. For those violating digital privacy in India\, substantial penalties wil jolt you: from a minimum of Rs 50 crores to a maximum of Rs 250 crores. \nSo let’s give Ekta Rohra Jafri a listen. \nEkta is an award winning designer with 3iXDAs and Honorary Indigo & IF design awards in social and behavioural change. Moving on from her career stints in Design leadership roles at IBM iX\, Times Group\, NDTV\, and others\, she is currently volunteering for TechBridge a company which enables bridges to form between policy and tech innovation. She dances on the edge of these two disciplines constantly\, often stepping into the territory of law\, constitution and democracy to understand what is needed in design today to enable a better tomorrow. She writes speculative fiction set 15 years ahead in India and she started doing it 6 years ago. From the future vision\, she extracts elements of experience which can be woven into policy and law today.\n \nRecently she wrote an article on how the new Digital Personal Data Protection Act will affect how we design digital products. It’s an insightful piece with tips on how to interpret policy to ensure compliance and ethical designs.\n\nWelcome to The Chat Bubble\n\nAs a new initiative by DesignRev\, we expand and evolve the Design Revolution we kickstarted from India in Sep 2014 through The Chat Bubble. Industry experts from diverse backgrounds and specializations are invited in these free and live online video-chats to share their insights on Design with the community. \nIn Episode 03\, From Ekta Rohra Lahiri you clearly need to know what’s going to happen to you and your work as a Designer through the lens of the Digital Privacy Bill 2023. \nRegistration is quick and free\, but is mandatory to receive an invite into the moderated Zoom or other videoconf meeting. Since we have limited invites\, first registration and then also attendance to the live event is on a first-come-first-serve basis. So please register immediately. On successful registration you will receive an invite as well as your login credentials via email. \nSo go ahead. Don’t just draw a chat bubble. Be in The Chat Bubble. \n  \n\nYes! Register Me\n
URL:http://designrev.in/event/thechatbubble-03/
LOCATION:Online via Video-Conf
CATEGORIES:Design Chat Online,Public Talk
ATTACH;FMTTYPE=image/png:http://designrev.in/wp-content/uploads/2023/08/03THEChatBubble-EktaRohraJafri-DigialPrivacyDesign.png
END:VEVENT
END:VCALENDAR