BEGIN:VCALENDAR
VERSION:2.0
PRODID:-//DesignRev - ECPv5.1.4//NONSGML v1.0//EN
CALSCALE:GREGORIAN
METHOD:PUBLISH
X-WR-CALNAME:DesignRev
X-ORIGINAL-URL:http://designrev.in
X-WR-CALDESC:Events for DesignRev
BEGIN:VTIMEZONE
TZID:Asia/Kolkata
BEGIN:STANDARD
TZOFFSETFROM:+0530
TZOFFSETTO:+0530
TZNAME:IST
DTSTART:20230101T000000
END:STANDARD
END:VTIMEZONE
BEGIN:VEVENT
DTSTART;TZID=Asia/Kolkata:20230701T110000
DTEND;TZID=Asia/Kolkata:20230701T114000
DTSTAMP:20260424T080107
CREATED:20230625T234635Z
LAST-MODIFIED:20230704T094626Z
UID:1396-1688209200-1688211600@designrev.in
SUMMARY:The Chat Bubble: How To Be A Timeless Designer
DESCRIPTION:This event has passed. Wanna join us for the next one? Ask us to ping you once as a reminder. Tap the button below. \nPing Me\nThe Chat Bubble: How To Be A Timeless Designer\nWill AI steal your job as a designer? What happens to all the skills you invested your time\, money\, and energy in with the AI disruption? Will startups and enterprises lay off designers\, will the team size of the design department shrink dramatically? What happens to your dreams of a career? \nFind answers to the toughest questions gnawing at you at this moment. Ask those questions we forgot to ask. From Karthi Sabbaram. With her 80\,000+ hours of user experience design\, 200+ digital products\, 20+ domains\, 500+ master classes\, 12+ brands and countless experiments: If Kathi’s professional life is represented as a dashboard\, that is what it will sound like. \nKarthi is currently empowering billions to achieve more at Microsoft India\, in her role in Design Leadership. She is a technologist turned into a multi-disciplinary product designer focused on human cognition and behaviors. Before building for billions\, Karthi spent one full decade in entrepreneurship building remote product design schools\, nonprofit maker ecosystems\, product design agencies and no-code accelerators. Karthi earned a Bachelor of Engineering in Electronics\, a Masters in Human-Computer Interaction and an Executive MBA in Product Leadership. \nWelcome to The Chat Bubble\nAs a new initiative by DesignRev\, we expand and evolve the Design Revolution we kickstarted from India in Sep 2014 through The Chat Bubble. Industry experts from diverse backgrounds and specializations are invited in these free and live online video-chats to share their insights on Design with the community. \nRegistration is quick and free\, but is mandatory to receive an invite into the moderated Zoom or other videoconf meeting. Since we have limited invites\, first registration and then also attendance to the live event is on a first-come-first-serve basis. So please register immediately. On successful registration you will receive an invite as well as your login credentials via email. \nSo go ahead. Don’t just draw a chat bubble. Be in The Chat Bubble. \nAsk us to ping you once as a reminder. Tap the button below.: \nPing Me\n  \n
URL:http://designrev.in/event/01-thechatbubble-karthi-sabbaraman-howtobeatimelessdesigner/
LOCATION:Online via Video-Conf
CATEGORIES:Design Chat Online,Public Talk
ATTACH;FMTTYPE=image/png:http://designrev.in/wp-content/uploads/2023/06/01ChatBubble-KarthiSubbaraman-HowToBeATimelessDesigner.png
END:VEVENT
END:VCALENDAR