BEGIN:VCALENDAR
VERSION:2.0
PRODID:-//DesignRev - ECPv5.1.4//NONSGML v1.0//EN
CALSCALE:GREGORIAN
METHOD:PUBLISH
X-WR-CALNAME:DesignRev
X-ORIGINAL-URL:http://designrev.in
X-WR-CALDESC:Events for DesignRev
BEGIN:VTIMEZONE
TZID:Asia/Kolkata
BEGIN:STANDARD
TZOFFSETFROM:+0530
TZOFFSETTO:+0530
TZNAME:IST
DTSTART:20180101T000000
END:STANDARD
END:VTIMEZONE
BEGIN:VEVENT
DTSTART;TZID=Asia/Kolkata:20180811T140000
DTEND;TZID=Asia/Kolkata:20180811T180000
DTSTAMP:20260424T080557
CREATED:20180808T061116Z
LAST-MODIFIED:20180808T061116Z
UID:551-1533996000-1534010400@designrev.in
SUMMARY:Free Dribbble UnMeetup Talk: "How To Hire Or Get Hired in Design or Design-Thinking"
DESCRIPTION:Am Delivering a free Talk at the Dribbble UnMeetupl This Saturday\, 11 August\, 2:00pm. Gurgaon\, Huda City Centre Metro Station at the Circle coworking space. ‘How to Hire or be Hired\, in Design’ You can register yourself at\nhttps://www.rmgx.in/dribbble-meetup.html \nEvery dribbble event has a limit because we have limited number of swags that dribbble sends for the meetup.\nSince our guest list is full can’t promise dribbble swags but can promise 4 hours of a jam packed event with lots of activities and fun! \n
URL:http://designrev.in/event/free-dribbble-unmeetup-talk-how-to-hire-or-get-hired-in-design-or-design-thinking/
LOCATION:Hunch Circle\, HUDA metro stration\, Gurgaon\, HUDA Metro Station\, 5th Floor\, Gurugram\, Haryana\, India
END:VEVENT
END:VCALENDAR